Workbook

Sheet план 
A1: План мероприятий Северо-Западного административного округа города Москвы на период 19.04.2021-24.04.2021
A2: № | B2: № по району | C2: Район | D2: Дата и время проведения | E2: Форма проведения | F2: Полное название мероприятия | G2: Место проведения (название обьекта, адрес) | H2: Планируемое число участников | I2: Ответственный ФИО, телефон, должность
A3: 1 | B3: 1 | C3: Куркино | D3: 20.04.2021 14.00 | E3: Онлайн | F3: Онлайн встреча с психологом Московской службы психологической помощи | G3: ГБУ ТЦСО "Тушино" филиал "Куркино" http://tcso-tushino.ru/ | H3: 10 | I3: ГБУ ТЦСО "Тушино" филиал "Куркино" Красная Ю.В., 8 -967-026 24 71
A4: 2 | B4: 2 | C4: Куркино | D4: 20.04.2021 16.00 | E4: Офлайн | F4: Тематических занятий, знакомство с окружающим миром. Кружок «Юные натуралисты» | G4: ГПБУ «Мосприрода» ул. Родионовская, д. 2 | H4: 20 | I4: ГПБУ «Мосприрода» Тимофеева М.В. 8-499- 159 65 81
A5: 3 | B5: 3 | C5: Куркино | D5: 21.04.2021 15.00 | E5: Офлайн | F5: Лекция «Чернобыль наша боль» Мероприятие, посвященное Дню памяти погибших в радиационных авариях и катастрофах. | G5: ГБУ ЦПСиД СЗАО города Москвы филиал «Берег детства» ул. Соловьиная роща, д. 10 | H5: 10 | I5: ГБУ ЦПСиД СЗАО города Москвы Новикова Ю.В. 8-903-284 02 73
A6: 4 | B6: 4 | C6: Куркино | D6: 21.04.2021 16.00 | E6: Офлайн | F6: Тренинг «Жизнь прожить-не поле перейти!» Тема: Семь «Я» | G6: ГБУ ЦПСиД СЗАО города Москвы филиал «Берег детства» ул. Соловьиная роща, д. 10 | H6: 10 | I6: ГБУ ЦПСиД СЗАО города Москвы Новикова Ю.В. 8-903-284 02 73
A7: 5 | B7: 5 | C7: Куркино | D7: 21.04.2021 16.00 | E7: Офлайн | F7: Мастер-класс по работе с природными материалами и вторсырьем. Кружок «Природная мастерская» | G7: ГПБУ «Мосприрода» ул. Родионовская, д. 2 | H7: 20 | I7: ГПБУ «Мосприрода» Тимофеева М.В. 8-499- 159 65 81
A8: 6 | B8: 6 | C8: Куркино | D8: 22.04.2021 14.00 | E8: Онлайн | F8: Онлайн - лекция врача-терапевта "Мочекаменная болезнь" | G8: ГБУ ТЦСО "Тушино" филиал "Куркино" http://tcso-tushino.ru/ | H8: 15 | I8: ГБУ ТЦСО "Тушино" филиал "Куркино" Красная Ю.В., 8 -967-026 24 71
A9: 7 | B9: 7 | C9: Куркино | D9: 22.04.2021 16.00 | E9: Офлайн | F9: Проведение тематических занятий по окружающему миру, знакомство с работой микроскопа. Кружок «Мир вокруг нас» | G9: ГПБУ «Мосприрода» ул. Родионовская, д. 2 | H9: 20 | I9: ГПБУ «Мосприрода» Тимофеева М.В. 8-499- 159 65 81
A10: 8 | B10: 8 | C10: Куркино | D10: 20.04.2021 15.00 | E10: Офлайн | F10: Викторина об уникальных обитателях нашей планеты. Развитие памяти и внимательности участников. Мемориал «Обитатели планеты Земля» Викторина | G10: ГПБУ «Мосприрода» ул. Родионовская, д. 2 | H10: 20 | I10: ГПБУ «Мосприрода» Тимофеева М.В. 8-499- 159 65 81
A11: 9 | B11: 9 | C11: Куркино | D11: 21.04.2021 15.00 | E11: Офлайн | F11: Мастер-класс, приуроченный Дню Земли. Изготовление открытки с использованием природных материалов или вторсырья. «Открытка. Поздравление планете» | G11: ГПБУ «Мосприрода» ул. Родионовская, д. 2 | H11: 20 | I11: ГПБУ «Мосприрода» Тимофеева М.В. 8-499- 159 65 81
A12: 10 | B12: 10 | C12: Куркино | D12: 22.04.2021 15.00 | E12: Офлайн | F12: Мастер-класс «Моя прекрасная планета», приуроченный Дню Земли. | G12: ГПБУ «Мосприрода» ул. Родионовская, д. 2 | H12: 20 | I12: ГПБУ «Мосприрода» Тимофеева М.В. 8-499- 159 65 81
A13: 11 | B13: 11 | C13: Куркино | D13: 22.04.2021 15.00 | E13: Офлайн | F13: Обзорная экскурсия по рекреационной зоне ландшафтного заказника «Долина реки Сходни в Куркино» «Звон Машкинского ручья» | G13: ГПБУ «Мосприрода» ул. Родионовская, д. 2 | H13: 20 | I13: ГПБУ «Мосприрода» Тимофеева М.В. 8-499- 159 65 81
A14: 12 | B14: 12 | C14: Куркино | D14: 23.04.2021 14.00 | E14: Онлайн | F14: Серия видео уроков по английскому языку «English for kids» | G14: ГБУ ЦДМСИ "Крылья" https://ru-ru.facebook.com/GBUKrylya https://vk.com/club_krylja https://www.instagram.com/gbu_krylya/ | H14: 50 | I14: ГБУ ЦДМСИ "Крылья" Вагнер Е.Е. 8-495- 491-18-61
... A96: 94 | B96: 5 | C96: Южное Тушино | D96: 23.04.2021 19.00 | E96: Офлайн | F96: Соревнования по футболу Кубок «Родины» | G96: Стадион "Тушино" на Лодочной ул. Лодочная, вл. 33-35 | H96: 50 | I96: ГБУ ЦДМСИ «Крылья», Вичканов Н.Ю. 8-499- 493 91 47

Sheet стат
A1: План мероприятий Северо-Западного административного округа города Москвы на период 19.04.2021-24.04.2021
A3: Район | B3: ВСЕГО мероприятий по округу | C3: ВСЕГО человек по округу | D3: Из них:
D4: В учреждения социальной сферы | H4: ВСЕГО мероприятий | I4: ВСЕГО человек | J4: ГБУ ЦДМСИ " Крылья" | N4: ВСЕГО мероприятий | O4: ВСЕГО человек
D6: ОФЛАЙН | E6: Охват | F6: ОНЛАЙН | G6: Охват | J6: ОФЛАЙН | K6: Охват | L6: ОНЛАЙН | M6: Охват
A7: Куркино | B7: =H7+N7 -> 13 | C7: =I7+O7 -> 245 | D7: =COUNTIF('план '!E3:E13,"Офлайн") +COUNTIF('план '!E15, "Офлайн") -> 9 | E7: ='план '!H4+'план '!H5+'план '!H6+'план '!H7+'план '!H9+'план '!H10+'план '!H11+'план '!H12+'план '!H13 -> 160 | F7: =COUNTIF('план '!E3:E13,"Онлайн") +COUNTIF('план '!E15, "Онлайн") -> 3 | G7: ='план '!H3+'план '!H8+'план '!H15 -> 35 | H7: =D7+F7 -> 12 | I7: =E7+G7 -> 195 | J7: =COUNTIF('план '!E14, "Офлайн") -> 0 | K7: 0 | L7: =COUNTIF('план '!E14, "Онлайн") -> 1 | M7: ='план '!H14 -> 50 | N7: =J7+L7 -> 1 | O7: =K7+M7 -> 50
A8: Митино | B8: =H8+N8 -> 14 | C8: =I8+O8 -> 610 | D8: =COUNTIF('план '!E16:E24, "Офлайн") + COUNTIF('план '!E26:E29,"Офлайн") -> 10 | E8: ='план '!H16+'план '!H18+'план '!H20+'план '!H21+'план '!H22+'план '!H23+'план '!H26+'план '!H27+'план '!H28+'план '!H29 -> 340 | F8: =COUNTIF('план '!E16:E24, "Онлайн") + COUNTIF('план '!E26:E29,"Онлайн") -> 3 | G8: ='план '!H17+'план '!H19+'план '!H24 -> 220 | H8: =D8+F8 -> 13 | I8: =E8+G8 -> 560 | J8: =COUNTIF('план '!E25, "Офлайн") -> 0 | K8: 0 | L8: =COUNTIF('план '!E25, "Онлайн") -> 1 | M8: ='план '!H25 -> 50 | N8: =J8+L8 -> 1 | O8: =K8+M8 -> 50
A9: Покровское-Стрешнево | B9: =H9+N9 -> 13 | C9: =I9+O9 -> 490 | D9: =COUNTIF('план '!E30:E35, "Офлайн") + COUNTIF('план '!E37, "Офлайн")+ COUNTIF('план '!E39, "Офлайн") + COUNTIF('план '!E41:E42, "Офлайн") -> 6 | E9: ='план '!H31+'план '!H33+'план '!H35+'план '!H37+'план '!H41+'план '!H42 -> 145 | F9: =COUNTIF('план '!E30:E35, "Онлайн") + COUNTIF('план '!E37, "Онлайн") + COUNTIF('план '!E39, "Онлайн") + COUNT('план '!E41:E42, "Онлайн") -> 4 | G9: ='план '!H30+'план '!H32+'план '!H34+'план '!H39 -> 255 | H9: =D9+F9 -> 10 | I9: =E9+G9 -> 400 | J9: =COUNTIF('план '!E36, "Офлайн") + COUNTIF('план '!E38, "Офлайн") + COUNTIF('план '!E40, "Офлайн") -> 2 | K9: ='план '!H38+'план '!H40 -> 40 | L9: =COUNTIF('план '!E36, "Онлайн") + COUNTIF('план '!E38, "Онлайн") + COUNTIF('план '!E40, "Онлайн") -> 1 | M9: ='план '!H36 -> 50 | N9: =J9+L9 -> 3 | O9: =K9+M9 -> 90
A10: Северное Тушино | B10: =H10+N10 -> 9 | C10: =I10+O10 -> 2302 | D10: =COUNTIF('план '!E43, "Офлайн") + COUNTIF('план '!E45:E49, "Офлайн") + COUNTIF('план '!E51, "Офлайн") -> 2 | E10: ='план '!H49+'план '!H51 -> 172 | F10: =COUNTIF('план '!E43, "Онлайн") + COUNTIF('план '!E45:E49, "Онлайн") + COUNTIF('план '!E51, "Онлайн") -> 5 | G10: ='план '!H43+'план '!H45+'план '!H46+'план '!H47+'план '!H48 -> 2050 | H10: =D10+F10 -> 7 | I10: =E10+G10 -> 2222 | J10: =COUNTIF('план '!E44, "Офлайн") + COUNTIF('план '!E50, "Офлайн") -> 1 | K10: 30 | L10: =COUNTIF('план '!E44, "Онлайн") + COUNTIF('план '!E50, "Онлайн") -> 1 | M10: ='план '!H36 -> 50 | N10: =J10+L10 -> 2 | O10: =K10+M10 -> 80
A11: Строгино | B11: =H11+N11 -> 13 | C11: =I11+O11 -> 269 | D11: =COUNTIF('план '!E52:E57, "Офлайн") +COUNTIF('план '!E59:E64, "Офлайн") -> 11 | E11: ='план '!H53+'план '!H54+'план '!H55+'план '!H56+'план '!H57+'план '!H59+'план '!H60+'план '!H61+'план '!H62 -> 189 | F11: =COUNTIF('план '!E52:E57, "Онлайн") +COUNTIF('план '!E59:E64, "Онлайн") -> 1 | G11: ='план '!H52 -> 30 | H11: =D11+F11 -> 12 | I11: =E11+G11 -> 219 | J11: =COUNTIF('план '!E58, "Офлайн") -> 0 | K11: 0 | L11: =COUNTIF('план '!E58, "Онлайн") -> 1 | M11: ='план '!H58 -> 50 | N11: =J11+L11 -> 1 | O11: =K11+M11 -> 50
A12: Хорошево-Мневники | B12: =H12+N12 -> 18 | C12: =I12+O12 -> 769 | D12: =COUNTIF('план '!E65:E67, "Офлайн") + COUNTIF('план '!E69:E72, "Офлайн") + COUNTIF('план '!E77, "Офлайн") + COUNTIF('план '!E79, "Офлайн")+COUNTIF('план '!E81, "Офлайн") -> 9 | E12: ='план '!H65+'план '!H66+'план '!H67+'план '!H69+'план '!H71+'план '!H72+'план '!H77+'план '!H79+'план '!H81 -> 588 | F12: =COUNTIF('план '!E65:E67, "Онлайн") + COUNTIF('план '!E69:E72, "Онлайн") + COUNTIF('план '!E77, "Онлайн") + COUNTIF('план '!E79, "Онлайн")+COUNTIF('план '!E81, "Онлайн") -> 1 | G12: ='план '!H70 -> 20 | H12: =D12+F12 -> 10 | I12: =E12+G12 -> 608 | J12: =COUNTIF('план '!E68, "Офлайн") +COUNTIF('план '!E73, "Офлайн") +COUNTIF('план '!E75, "Офлайн") +COUNTIF('план '!E76, "Офлайн") +COUNTIF('план '!E82, "Офлайн") + COUNTIF('план '!E74, "Офлайн") + COUNTIF('план '!E78, "Офлайн") + COUNTIF('план '!E80, "Офлайн") -> 6 | K12: ='план '!H68+'план '!H74+'план '!H75+'план '!H76+'план '!H80+'план '!H82 -> 91 | L12: =COUNTIF('план '!E68, "Онлайн") +COUNTIF('план '!E73, "Онлайн") +COUNTIF('план '!E75, "Онлайн") +COUNTIF('план '!E76, "Онлайн") +COUNTIF('план '!E82, "Онлайн") + COUNTIF('план '!E74, "Онлайн") + COUNTIF('план '!E78, "Онлайн") + COUNTIF('план '!E80, "Онлайн") -> 2 | M12: ='план '!H73+'план '!H78 -> 70 | N12: =J12+L12 -> 8 | O12: =K12+M12 -> 161
A13: Щукино | B13: =H13+N13 -> 9 | C13: =I13+O13 -> 255 | D13: =COUNTIF('план '!E83:E84, "Офлайн") + COUNTIF('план '!E86:E87, "Офлайн") + COUNTIF('план '!E89:E91, "Офлайн") -> 6 | E13: ='план '!H83+'план '!H84+'план '!H86+'план '!H87+'план '!H90+'план '!H91 -> 155 | F13: =COUNTIF('план '!E83:E84, "Онлайн") + COUNTIF('план '!E86:E87, "Онлайн") + COUNTIF('план '!E89:E91, "Онлайн") -> 1 | G13: ='план '!H89 -> 20 | H13: =D13+F13 -> 7 | I13: =E13+G13 -> 175 | J13: =COUNTIF('план '!E85, "Офлайн") + COUNTIF('план '!E88, "Офлайн") -> 1 | K13: ='план '!H85 -> 30 | L13: =COUNTIF('план '!E85, "Онлайн") + COUNTIF('план '!E88, "Онлайн") -> 1 | M13: ='план '!H88 -> 50 | N13: =J13+L13 -> 2 | O13: =K13+M13 -> 80
A14: Южное Тушино | B14: =H14+N14 -> 5 | C14: =I14+O14 -> 440 | D14: =COUNTIF('план '!E92:E94, "Офлайн") -> 2 | E14: ='план '!H92+'план '!H93 -> 330 | F14: =COUNTIF('план '!E92:E94, "Онлайн") -> 1 | G14: ='план '!H94 -> 10 | H14: =D14+F14 -> 3 | I14: =E14+G14 -> 340 | J14: =COUNTIF('план '!E95, "Офлайн") + COUNTIF('план '!E96, "Офлайн") -> 1 | K14: ='план '!H96 -> 50 | L14: =COUNTIF('план '!E95, "Онлайн") + COUNTIF('план '!E96, "Онлайн") -> 1 | M14: ='план '!H95 -> 50 | N14: =J14+L14 -> 2 | O14: =K14+M14 -> 100
A15: ИТОГО | B15: =SUM(B7:B14) -> 94 | C15: =SUM(C7:C14) -> 5380 | D15: =SUM(D7:D14) -> 55 | E15: =SUM(E7:E14) -> 2079 | F15: =SUM(F7:F14) -> 19 | G15: =SUM(G7:G14) -> 2640 | H15: =SUM(H7:H14) -> 74 | I15: =SUM(I7:I14) -> 4719 | ... O15: =SUM(O7:O14) -> 661
